BEGIN:VCALENDAR
VERSION:2.0
PRODID:-// - ECPv6.2.9//NONSGML v1.0//EN
CALSCALE:GREGORIAN
METHOD:PUBLISH
X-ORIGINAL-URL:https://authorlaurahawks.com
X-WR-CALDESC:Events for 
REFRESH-INTERVAL;VALUE=DURATION:PT1H
X-Robots-Tag:noindex
X-PUBLISHED-TTL:PT1H
BEGIN:VTIMEZONE
TZID:UTC
BEGIN:STANDARD
TZOFFSETFROM:+0000
TZOFFSETTO:+0000
TZNAME:UTC
DTSTART:20240101T000000
END:STANDARD
END:VTIMEZONE
BEGIN:VEVENT
DTSTART;TZID=UTC:20240622T110000
DTEND;TZID=UTC:20240622T160000
DTSTAMP:20260423T094331
CREATED:20240603T225055Z
LAST-MODIFIED:20240603T225055Z
UID:10000014-1719054000-1719072000@authorlaurahawks.com
SUMMARY:Grayslake Author Fest
DESCRIPTION:Located by Grayslake Heritage Center \n164 Hawley Street \nGrayslake\, IL 60030
URL:https://authorlaurahawks.com/event/grayslake-author-fest/
LOCATION:Grayslake Heritage Center\, 164 Hawley Street\, Grayslake\, IL\, 60030\, United States
END:VEVENT
END:VCALENDAR